BEGIN:VCALENDAR
VERSION:2.0
PRODID:-//Ungarischer Kulturverein Chemnitz und Umgebung e. V. - ECPv6.15.20//NONSGML v1.0//EN
CALSCALE:GREGORIAN
METHOD:PUBLISH
X-WR-CALNAME:Ungarischer Kulturverein Chemnitz und Umgebung e. V.
X-ORIGINAL-URL:https://www.ungarn-in-sachsen.de/hu/
X-WR-CALDESC:Események Ungarischer Kulturverein Chemnitz und Umgebung e. V.
REFRESH-INTERVAL;VALUE=DURATION:PT1H
X-Robots-Tag:noindex
X-PUBLISHED-TTL:PT1H
BEGIN:VTIMEZONE
TZID:Europe/Berlin
BEGIN:DAYLIGHT
TZOFFSETFROM:+0100
TZOFFSETTO:+0200
TZNAME:CEST
DTSTART:20240331T010000
END:DAYLIGHT
BEGIN:STANDARD
TZOFFSETFROM:+0200
TZOFFSETTO:+0100
TZNAME:CET
DTSTART:20241027T010000
END:STANDARD
BEGIN:DAYLIGHT
TZOFFSETFROM:+0100
TZOFFSETTO:+0200
TZNAME:CEST
DTSTART:20250330T010000
END:DAYLIGHT
BEGIN:STANDARD
TZOFFSETFROM:+0200
TZOFFSETTO:+0100
TZNAME:CET
DTSTART:20251026T010000
END:STANDARD
BEGIN:DAYLIGHT
TZOFFSETFROM:+0100
TZOFFSETTO:+0200
TZNAME:CEST
DTSTART:20260329T010000
END:DAYLIGHT
BEGIN:STANDARD
TZOFFSETFROM:+0200
TZOFFSETTO:+0100
TZNAME:CET
DTSTART:20261025T010000
END:STANDARD
END:VTIMEZONE
BEGIN:VEVENT
DTSTART;TZID=Europe/Berlin:20251107T180000
DTEND;TZID=Europe/Berlin:20251107T220000
DTSTAMP:20260426T063901
CREATED:20250403T131459Z
LAST-MODIFIED:20250403T131459Z
UID:34975-1762538400-1762552800@www.ungarn-in-sachsen.de
SUMMARY:Törzsasztal 2025. november 7-én
DESCRIPTION:Egyesületünk minden hónap első péntekén 18.00 órától meghívja Önt a „magyar törzsasztalra” a Chemnitzben\, a Beyerstrasse 28. alatti „Betyár Csárda” étterembe \nMinden rendezvényre a következők vonatkoznak: A rendezvényről kizárjuk azokat a személyeket\, akik szélsőséges szervezetekhez tartoznak\, szélsőséges szcénához kötődnek\, vagy a múltban már tettek rasszista\, nacionalista\, antiszemita vagy más embertelen kijelentéseket. A szervezők fenntartják a jogot\, hogy éljenek a házi jogukkal\, és megtagadják ezektől a személyektől a rendezvényre való belépést\, vagy kizárják őket onnan.
URL:https://www.ungarn-in-sachsen.de/hu/veranstaltung/toerzsasztal-2025-november-7-en/
LOCATION:Vendéglö Betyár Csárda\, Beyerstr. 28\, Chemnitz\, 09113
CATEGORIES:Magyar törzsasztal
END:VEVENT
END:VCALENDAR