BEGIN:VCALENDAR
VERSION:2.0
PRODID:-//Ungarischer Kulturverein Chemnitz und Umgebung e. V. - ECPv6.15.20//NONSGML v1.0//EN
CALSCALE:GREGORIAN
METHOD:PUBLISH
X-WR-CALNAME:Ungarischer Kulturverein Chemnitz und Umgebung e. V.
X-ORIGINAL-URL:https://www.ungarn-in-sachsen.de/hu/
X-WR-CALDESC:Események Ungarischer Kulturverein Chemnitz und Umgebung e. V.
REFRESH-INTERVAL;VALUE=DURATION:PT1H
X-Robots-Tag:noindex
X-PUBLISHED-TTL:PT1H
BEGIN:VTIMEZONE
TZID:Europe/Berlin
BEGIN:DAYLIGHT
TZOFFSETFROM:+0100
TZOFFSETTO:+0200
TZNAME:CEST
DTSTART:20240331T010000
END:DAYLIGHT
BEGIN:STANDARD
TZOFFSETFROM:+0200
TZOFFSETTO:+0100
TZNAME:CET
DTSTART:20241027T010000
END:STANDARD
BEGIN:DAYLIGHT
TZOFFSETFROM:+0100
TZOFFSETTO:+0200
TZNAME:CEST
DTSTART:20250330T010000
END:DAYLIGHT
BEGIN:STANDARD
TZOFFSETFROM:+0200
TZOFFSETTO:+0100
TZNAME:CET
DTSTART:20251026T010000
END:STANDARD
BEGIN:DAYLIGHT
TZOFFSETFROM:+0100
TZOFFSETTO:+0200
TZNAME:CEST
DTSTART:20260329T010000
END:DAYLIGHT
BEGIN:STANDARD
TZOFFSETFROM:+0200
TZOFFSETTO:+0100
TZNAME:CET
DTSTART:20261025T010000
END:STANDARD
END:VTIMEZONE
BEGIN:VEVENT
DTSTART;TZID=Europe/Berlin:20251205T170000
DTEND;TZID=Europe/Berlin:20251205T220000
DTSTAMP:20260426T050616
CREATED:20250905T150513Z
LAST-MODIFIED:20251117T220020Z
UID:35165-1764954000-1764972000@www.ungarn-in-sachsen.de
SUMMARY:Taggyűlés és karácsonyi ünnepség 2025. december 5-én
DESCRIPTION:Meghívó a taggyűlésre és karácsonyi ünnepségre\nKedves Egyesületi Tagok! \nAz egyesület vezetősége nevében szeretettel meghívjuk Önt a \nTaggyűlés\ndecember 5-én 17:00 órától a „Betyár Csárda” étteremben\,\nBeyerstraße 28\, 09113 Chemnitz\nhez. \nA következő napirend szerepel a tervben: \n\nAz idei rendezvények értékelése\nRövid jelentés az egyesület pénzügyeiről 2025\nKurzbericht Vereinsfinanzen 2025\n\nA taggyűlés után megrendezésre kerül a karácsonyi ünnepségünk.  \nA következő ételek közül lehet választani: \n\nPanírozott sertésszelet és sült krumpli (17\,50 €)\nMarhagulyás vörösborral\, gombával és galuskával (19\,90 €)\nBakonyi csirkemellfilé galuskával (16\,60 €)\nVálaszthatóan panírozott gomba vagy sajt tatár mártással\, juhászsaláta és rizs (13\,90 €)\n\nAz italfogyasztás költségeit szintén a résztvevők viselik. \nAki szeretne\, szivesen hozhat karácsonyi süteményt is az ünnepségre. \nMivel a Betyár Csárda helyszínének kapacitása korlátozott\, csak a tagok és családtagjaik vehetnek részt az eseményen. Kérjük\, hogy 2025. december 2-ig telefonon jelentkezzenek be a Betyár Csárda étterembe\, és válasszák ki az ételt. Tel. 0371 / 33 12 320. \n  \nMinden rendezvényre érvényes: A rendezvényről kizártak azok a személyek\, akik szélsőséges szervezetekhez tartoznak\, szélsőséges körökhöz köthetők\, vagy akik már korábban rasszista\, nacionalista\, antiszemita vagy más embertelen kijelentésekkel tűntek ki. A szervezők fenntartják maguknak a jogot\, hogy házigazdai jogukat gyakorolva megtagadják ezeknek a személyeknek a rendezvényre való belépését\, vagy kiutasítsák őket onnan.
URL:https://www.ungarn-in-sachsen.de/hu/veranstaltung/taggyules-es-karacsonyi-uennepseg-2025-december-5-en/
LOCATION:Vendéglö Betyár Csárda\, Beyerstr. 28\, Chemnitz\, 09113
CATEGORIES:Taggyűlés
END:VEVENT
END:VCALENDAR