BEGIN:VCALENDAR
VERSION:2.0
PRODID:-//Ungarischer Kulturverein Chemnitz und Umgebung e. V. - ECPv6.15.20//NONSGML v1.0//EN
CALSCALE:GREGORIAN
METHOD:PUBLISH
X-ORIGINAL-URL:https://www.ungarn-in-sachsen.de/hu/
X-WR-CALDESC:Események Ungarischer Kulturverein Chemnitz und Umgebung e. V.
REFRESH-INTERVAL;VALUE=DURATION:PT1H
X-Robots-Tag:noindex
X-PUBLISHED-TTL:PT1H
BEGIN:VTIMEZONE
TZID:Europe/Berlin
BEGIN:DAYLIGHT
TZOFFSETFROM:+0100
TZOFFSETTO:+0200
TZNAME:CEST
DTSTART:20250330T010000
END:DAYLIGHT
BEGIN:STANDARD
TZOFFSETFROM:+0200
TZOFFSETTO:+0100
TZNAME:CET
DTSTART:20251026T010000
END:STANDARD
BEGIN:DAYLIGHT
TZOFFSETFROM:+0100
TZOFFSETTO:+0200
TZNAME:CEST
DTSTART:20260329T010000
END:DAYLIGHT
BEGIN:STANDARD
TZOFFSETFROM:+0200
TZOFFSETTO:+0100
TZNAME:CET
DTSTART:20261025T010000
END:STANDARD
BEGIN:DAYLIGHT
TZOFFSETFROM:+0100
TZOFFSETTO:+0200
TZNAME:CEST
DTSTART:20270328T010000
END:DAYLIGHT
BEGIN:STANDARD
TZOFFSETFROM:+0200
TZOFFSETTO:+0100
TZNAME:CET
DTSTART:20271031T010000
END:STANDARD
END:VTIMEZONE
BEGIN:VEVENT
DTSTART;TZID=Europe/Berlin:20260509T110000
DTEND;TZID=Europe/Berlin:20260509T140000
DTSTAMP:20260425T210217
CREATED:20260103T190433Z
LAST-MODIFIED:20260410T174509Z
UID:36054-1778324400-1778335200@www.ungarn-in-sachsen.de
SUMMARY:Taggyűlés 2026. május 9-én
DESCRIPTION:Meghívó a taggyűlésre \nKedves Egyesületi Tagok! \nAz egyesület vezetősége nevében szeretettel meghívjuk Önöket a \nTaggyűlés május 9-én 11:00 órától \na „Betyár Csárda” étteremben\, \nBeyerstraße 28\, 09113 Chemnitz \nhez. \nA következő napirend szerepel a tervben: \n\nÜdvözlés \nGazdasági helyzetjelentés \nA pénztárvizsgáló jelentése \nA vezetőség felmentése \nÚj vezetőség választása \nA pénztárvizsgáló választása \nTervezett tevékenységek 2026-ban\n\nMegjegyzés\nÚjra megválasztjuk az egyesület vezetőségét. Ha kérdéseid vannak\, vagy szeretnél aktívan részt venni az egyesület életének alakításában\, kérjük\, már előzetesen vedd fel velünk a kapcsolatot.  \nJelentkezési kérelem\nKérjük megértésüket\, hogy a közgyűlésen csak az egyesület tagjai vehetnek részt\, mivel a Betyár Csárda helyisége korlátozott. Annak érdekében\, hogy a helyiséget megfelelően előkészíthessük\, kérjük\, hogy 2026. április 30-ig jelentkezzenek be. (Tel. +49 15569 518981 vagy info@ungarn-in-sachsen.de). Köszönjük szépen.   \nItt tölthetitek le a meghívót. \nÜdvözlettel\nGéczi Katalin\npénztáros
URL:https://www.ungarn-in-sachsen.de/hu/veranstaltung/mitglieder-versammlung-am-9-mai-2026/
LOCATION:Vendéglö Betyár Csárda\, Beyerstr. 28\, Chemnitz\, 09113
CATEGORIES:Taggyűlés
END:VEVENT
BEGIN:VEVENT
DTSTART;TZID=Europe/Berlin:20260605T180000
DTEND;TZID=Europe/Berlin:20260605T220000
DTSTAMP:20260425T210217
CREATED:20260103T182644Z
LAST-MODIFIED:20260103T182644Z
UID:36039-1780682400-1780696800@www.ungarn-in-sachsen.de
SUMMARY:Törzsasztal 2026. június 5.
DESCRIPTION:Egyesületünk minden hónap első péntekén 18.00 órától meghívja Önt a „magyar törzsasztalra” a Chemnitzben\, a Beyerstrasse 28. alatti „Betyár Csárda” étterembe. \n  \n  \nMinden rendezvényre a következők vonatkoznak: A rendezvényről kizárjuk azokat a személyeket\, akik szélsőséges szervezetekhez tartoznak\, szélsőséges szcénához kötődnek\, vagy a múltban már tettek rasszista\, nacionalista\, antiszemita vagy más embertelen kijelentéseket. A szervezők fenntartják a jogot\, hogy éljenek a házi jogukkal\, és megtagadják ezektől a személyektől a rendezvényre való belépést\, vagy kizárják őket onnan.
URL:https://www.ungarn-in-sachsen.de/hu/veranstaltung/toerzsasztal-2026-junius-5/
LOCATION:Vendéglö Betyár Csárda\, Beyerstr. 28\, Chemnitz\, 09113
CATEGORIES:Magyar törzsasztal
END:VEVENT
BEGIN:VEVENT
DTSTART;TZID=Europe/Berlin:20260807T180000
DTEND;TZID=Europe/Berlin:20260807T220000
DTSTAMP:20260425T210217
CREATED:20260103T182658Z
LAST-MODIFIED:20260103T182658Z
UID:36040-1786125600-1786140000@www.ungarn-in-sachsen.de
SUMMARY:Törzsasztal 2026. augusztus 7.
DESCRIPTION:Egyesületünk minden hónap első péntekén 18.00 órától meghívja Önt a „magyar törzsasztalra” a Chemnitzben\, a Beyerstrasse 28. alatti „Betyár Csárda” étterembe. \n  \n  \nMinden rendezvényre a következők vonatkoznak: A rendezvényről kizárjuk azokat a személyeket\, akik szélsőséges szervezetekhez tartoznak\, szélsőséges szcénához kötődnek\, vagy a múltban már tettek rasszista\, nacionalista\, antiszemita vagy más embertelen kijelentéseket. A szervezők fenntartják a jogot\, hogy éljenek a házi jogukkal\, és megtagadják ezektől a személyektől a rendezvényre való belépést\, vagy kizárják őket onnan.
URL:https://www.ungarn-in-sachsen.de/hu/veranstaltung/toerzsasztal-2026-augusztus-7/
LOCATION:Vendéglö Betyár Csárda\, Beyerstr. 28\, Chemnitz\, 09113
CATEGORIES:Magyar törzsasztal
END:VEVENT
BEGIN:VEVENT
DTSTART;TZID=Europe/Berlin:20260821T160000
DTEND;TZID=Europe/Berlin:20260821T220000
DTSTAMP:20260425T210217
CREATED:20260103T193013Z
LAST-MODIFIED:20260401T205131Z
UID:36067-1787328000-1787349600@www.ungarn-in-sachsen.de
SUMMARY:Nyári ünnepség szalonna sütéssel 2026. augusztus 21-én
DESCRIPTION:Nyári ünnepség szalonna sütéssel\n2026. augusztus 21-én\, pénteken 16:00 órakor\na Betyár Csárda sörkertjében\n  \nA RÉSZLETEK MÉG KÖZZÉTÉTELRE KERÜLNEK.
URL:https://www.ungarn-in-sachsen.de/hu/veranstaltung/szalonnasuetes-ciganyzenevel-2026-junius-20-an/
LOCATION:Vendéglö Betyár Csárda\, Beyerstr. 28\, Chemnitz\, 09113
CATEGORIES:Rendezvény
END:VEVENT
BEGIN:VEVENT
DTSTART;TZID=Europe/Berlin:20260904T180000
DTEND;TZID=Europe/Berlin:20260904T220000
DTSTAMP:20260425T210217
CREATED:20260103T182753Z
LAST-MODIFIED:20260103T182753Z
UID:36041-1788544800-1788559200@www.ungarn-in-sachsen.de
SUMMARY:Törzsasztal 2026. szeptember 4.
DESCRIPTION:Egyesületünk minden hónap első péntekén 18.00 órától meghívja Önt a „magyar törzsasztalra” a Chemnitzben\, a Beyerstrasse 28. alatti „Betyár Csárda” étterembe. \n  \n  \nMinden rendezvényre a következők vonatkoznak: A rendezvényről kizárjuk azokat a személyeket\, akik szélsőséges szervezetekhez tartoznak\, szélsőséges szcénához kötődnek\, vagy a múltban már tettek rasszista\, nacionalista\, antiszemita vagy más embertelen kijelentéseket. A szervezők fenntartják a jogot\, hogy éljenek a házi jogukkal\, és megtagadják ezektől a személyektől a rendezvényre való belépést\, vagy kizárják őket onnan.
URL:https://www.ungarn-in-sachsen.de/hu/veranstaltung/toerzsasztal-2026-szeptember-4/
LOCATION:Vendéglö Betyár Csárda\, Beyerstr. 28\, Chemnitz\, 09113
CATEGORIES:Magyar törzsasztal
END:VEVENT
BEGIN:VEVENT
DTSTART;TZID=Europe/Berlin:20260912T120000
DTEND;TZID=Europe/Berlin:20260912T180000
DTSTAMP:20260425T210217
CREATED:20260103T191747Z
LAST-MODIFIED:20260103T191747Z
UID:36061-1789214400-1789236000@www.ungarn-in-sachsen.de
SUMMARY:IKW megnyitása 2026. szeptember 12.
DESCRIPTION:Eröffnung der Interkulturellen Wochen auf dem Markt in Chemnitz. \nEgyesületünk standdal mutatkozik be. \nKivonat a programfüzetből – hamarosan következik. \n  \nA kultúraközi heteket Chemnitzben a migrációs megbízott vezeti\, szoros együttműködésben a migrációs tanácsadó testülettel\, a szociális hivatalral\, az AGIUA e. V. migrációs szociális és ifjúsági munkával foglalkozó egyesülettel\, az akCente e. V. egyesülethez tartozó Lila Villa női központtal\, valamint számos chemnitzi egyesület és kezdeményezés támogatásával. \nLink az IKW 2026 programhoz – hamarosan következik. \n  \n  \nMinden rendezvényre a következők vonatkoznak: A rendezvényről kizárjuk azokat a személyeket\, akik szélsőséges szervezetekhez tartoznak\, szélsőséges szcénához kötődnek\, vagy a múltban már tettek rasszista\, nacionalista\, antiszemita vagy más embertelen kijelentéseket. A szervezők fenntartják a jogot\, hogy éljenek a házi jogukkal\, és megtagadják ezektől a személyektől a rendezvényre való belépést\, vagy kizárják őket onnan.
URL:https://www.ungarn-in-sachsen.de/hu/veranstaltung/ikw-megnyitasa-2026-szeptember-12/
LOCATION:Markt Chemnitz\, Markt\, Chemnitz\, 09111\, Deutschland
CATEGORIES:Bemutatás
END:VEVENT
BEGIN:VEVENT
DTSTART;TZID=Europe/Berlin:20260921T170000
DTEND;TZID=Europe/Berlin:20260921T190000
DTSTAMP:20260425T210217
CREATED:20260103T192241Z
LAST-MODIFIED:20260103T192241Z
UID:36064-1790010000-1790017200@www.ungarn-in-sachsen.de
SUMMARY:SzóKincs 2026. Szeptember 21-én
DESCRIPTION:SzóKincs 2026\nA RÉSZLETEK MÉG KÖZZÉTÉTELRE KERÜLNEK. \n  \n  \nMinden rendezvényre a következők vonatkoznak: A rendezvényről kizárjuk azokat a személyeket\, akik szélsőséges szervezetekhez tartoznak\, szélsőséges szcénához kötődnek\, vagy a múltban már tettek rasszista\, nacionalista\, antiszemita vagy más embertelen kijelentéseket. A szervezők fenntartják a jogot\, hogy éljenek a házi jogukkal\, és megtagadják ezektől a személyektől a rendezvényre való belépést\, vagy kizárják őket onnan.
URL:https://www.ungarn-in-sachsen.de/hu/veranstaltung/szokincs-2026-szeptember-21-en/
LOCATION:Haus der Kulturen\, Karl-Liebknecht-Straße 15-17\, Chemnitz\, 09111\, Deutschland
CATEGORIES:Rendezvény
END:VEVENT
BEGIN:VEVENT
DTSTART;TZID=Europe/Berlin:20261002T180000
DTEND;TZID=Europe/Berlin:20261002T220000
DTSTAMP:20260425T210217
CREATED:20260103T182833Z
LAST-MODIFIED:20260103T182833Z
UID:36042-1790964000-1790978400@www.ungarn-in-sachsen.de
SUMMARY:Törzsasztal 2026. október 2.
DESCRIPTION:Egyesületünk minden hónap első péntekén 18.00 órától meghívja Önt a „magyar törzsasztalra” a Chemnitzben\, a Beyerstrasse 28. alatti „Betyár Csárda” étterembe. \n  \n  \nMinden rendezvényre a következők vonatkoznak: A rendezvényről kizárjuk azokat a személyeket\, akik szélsőséges szervezetekhez tartoznak\, szélsőséges szcénához kötődnek\, vagy a múltban már tettek rasszista\, nacionalista\, antiszemita vagy más embertelen kijelentéseket. A szervezők fenntartják a jogot\, hogy éljenek a házi jogukkal\, és megtagadják ezektől a személyektől a rendezvényre való belépést\, vagy kizárják őket onnan.
URL:https://www.ungarn-in-sachsen.de/hu/veranstaltung/toerzsasztal-2026-oktober-2/
LOCATION:Vendéglö Betyár Csárda\, Beyerstr. 28\, Chemnitz\, 09113
CATEGORIES:Magyar törzsasztal
END:VEVENT
BEGIN:VEVENT
DTSTART;TZID=Europe/Berlin:20261106T180000
DTEND;TZID=Europe/Berlin:20261106T220000
DTSTAMP:20260425T210217
CREATED:20260103T182910Z
LAST-MODIFIED:20260103T182910Z
UID:36043-1793988000-1794002400@www.ungarn-in-sachsen.de
SUMMARY:Törzsasztal 2026. november 6.
DESCRIPTION:Egyesületünk minden hónap első péntekén 18.00 órától meghívja Önt a „magyar törzsasztalra” a Chemnitzben\, a Beyerstrasse 28. alatti „Betyár Csárda” étterembe. \n  \n  \nMinden rendezvényre a következők vonatkoznak: A rendezvényről kizárjuk azokat a személyeket\, akik szélsőséges szervezetekhez tartoznak\, szélsőséges szcénához kötődnek\, vagy a múltban már tettek rasszista\, nacionalista\, antiszemita vagy más embertelen kijelentéseket. A szervezők fenntartják a jogot\, hogy éljenek a házi jogukkal\, és megtagadják ezektől a személyektől a rendezvényre való belépést\, vagy kizárják őket onnan.
URL:https://www.ungarn-in-sachsen.de/hu/veranstaltung/toerzsasztal-2026-november-6/
LOCATION:Vendéglö Betyár Csárda\, Beyerstr. 28\, Chemnitz\, 09113
CATEGORIES:Magyar törzsasztal
END:VEVENT
BEGIN:VEVENT
DTSTART;TZID=Europe/Berlin:20261114T183000
DTEND;TZID=Europe/Berlin:20261114T233000
DTSTAMP:20260425T210217
CREATED:20260103T185257Z
LAST-MODIFIED:20260103T185257Z
UID:36051-1794681000-1794699000@www.ungarn-in-sachsen.de
SUMMARY:Magyar kulturális este 2026. November 14-én
DESCRIPTION:Meghívó a 2026-os magyar kulturális estére\na PENTAGON 3-ban\, Brückenstraße 17\, 09111 Chemnitz\nKedves magyarok és Magyarország barátai! \nA Chemnitz és környéke Magyar Kulturális Egyesület 2026. november 14-én 18:30 órától (belépés 17:30 órától) színes programmal várja Önöket az idei Magyar Találkozóra. \nA RÉSZLETEK MÉG KÖZZÉTÉTELRE KERÜLNEK. \n  \nMinden rendezvényre a következők vonatkoznak: A rendezvényről kizárjuk azokat a személyeket\, akik szélsőséges szervezetekhez tartoznak\, szélsőséges szcénához kötődnek\, vagy a múltban már tettek rasszista\, nacionalista\, antiszemita vagy más embertelen kijelentéseket. A szervezők fenntartják a jogot\, hogy éljenek a házi jogukkal\, és megtagadják ezektől a személyektől a rendezvényre való belépést\, vagy kizárják őket onnan.
URL:https://www.ungarn-in-sachsen.de/hu/veranstaltung/magyar-kulturalis-este-2026-november-14-en/
LOCATION:Pentagon 3\, Brückenstraße 17\, Chemnitz\, 09111
CATEGORIES:Rendezvény
END:VEVENT
BEGIN:VEVENT
DTSTART;TZID=Europe/Berlin:20261211T170000
DTEND;TZID=Europe/Berlin:20261211T220000
DTSTAMP:20260425T210217
CREATED:20260103T184035Z
LAST-MODIFIED:20260103T184035Z
UID:36046-1797008400-1797026400@www.ungarn-in-sachsen.de
SUMMARY:Mitglieder-Versammlung und Weihnachtsfeier am 11. Dezember 2026
DESCRIPTION:Meghívó a taggyűlésre és karácsonyi ünnepségre\nKedves Egyesületi Tagok! \nAz egyesület vezetősége nevében szeretettel meghívjuk Önt a \nTaggyűlés\ndecember 11-én 17:00 órától a „Betyár Csárda” étteremben\,\nBeyerstraße 28\, 09113 Chemnitz\nhez. \nA következő napirend szerepel a tervben: \n\nAz idei rendezvények értékelése\nAz egyesület pénzügyi helyzetéről szóló rövid tájékoztató 2026\nRendezvénytervezés 2027-re\n\nA taggyűlés után megrendezésre kerül a karácsonyi ünnepségünk.  \nA RÉSZLETEK MÉG KÖZZÉTÉTELRE KERÜLNEK. \n  \nMinden rendezvényre a következők vonatkoznak: A rendezvényről kizárjuk azokat a személyeket\, akik szélsőséges szervezetekhez tartoznak\, szélsőséges szcénához kötődnek\, vagy a múltban már tettek rasszista\, nacionalista\, antiszemita vagy más embertelen kijelentéseket. A szervezők fenntartják a jogot\, hogy éljenek a házi jogukkal\, és megtagadják ezektől a személyektől a rendezvényre való belépést\, vagy kizárják őket onnan.
URL:https://www.ungarn-in-sachsen.de/hu/veranstaltung/mitglieder-versammlung-und-weihnachtsfeier-am-11-dezember-2026/
LOCATION:Vendéglö Betyár Csárda\, Beyerstr. 28\, Chemnitz\, 09113
CATEGORIES:Taggyűlés
END:VEVENT
END:VCALENDAR