BEGIN:VCALENDAR
VERSION:2.0
PRODID:-//Ungarischer Kulturverein Chemnitz und Umgebung e. V. - ECPv6.15.20//NONSGML v1.0//EN
CALSCALE:GREGORIAN
METHOD:PUBLISH
X-WR-CALNAME:Ungarischer Kulturverein Chemnitz und Umgebung e. V.
X-ORIGINAL-URL:https://www.ungarn-in-sachsen.de
X-WR-CALDESC:Veranstaltungen für Ungarischer Kulturverein Chemnitz und Umgebung e. V.
REFRESH-INTERVAL;VALUE=DURATION:PT1H
X-Robots-Tag:noindex
X-PUBLISHED-TTL:PT1H
BEGIN:VTIMEZONE
TZID:Europe/Berlin
BEGIN:DAYLIGHT
TZOFFSETFROM:+0100
TZOFFSETTO:+0200
TZNAME:CEST
DTSTART:20250330T010000
END:DAYLIGHT
BEGIN:STANDARD
TZOFFSETFROM:+0200
TZOFFSETTO:+0100
TZNAME:CET
DTSTART:20251026T010000
END:STANDARD
BEGIN:DAYLIGHT
TZOFFSETFROM:+0100
TZOFFSETTO:+0200
TZNAME:CEST
DTSTART:20260329T010000
END:DAYLIGHT
BEGIN:STANDARD
TZOFFSETFROM:+0200
TZOFFSETTO:+0100
TZNAME:CET
DTSTART:20261025T010000
END:STANDARD
BEGIN:DAYLIGHT
TZOFFSETFROM:+0100
TZOFFSETTO:+0200
TZNAME:CEST
DTSTART:20270328T010000
END:DAYLIGHT
BEGIN:STANDARD
TZOFFSETFROM:+0200
TZOFFSETTO:+0100
TZNAME:CET
DTSTART:20271031T010000
END:STANDARD
END:VTIMEZONE
BEGIN:VEVENT
DTSTART;TZID=Europe/Berlin:20260912T120000
DTEND;TZID=Europe/Berlin:20260912T180000
DTSTAMP:20260425T235030
CREATED:20260103T191427Z
LAST-MODIFIED:20260103T191427Z
UID:36059-1789214400-1789236000@www.ungarn-in-sachsen.de
SUMMARY:Eröffnung IKW 12. September 2026
DESCRIPTION:Eröffnung der Interkulturellen Wochen auf dem Markt in Chemnitz. \nUnser Verein präsentiert sich mit einem Stand. \nAuszug aus dem Programmheft – folgt noch. \n  \nDie Interkulturellen Wochen werden in Chemnitz federführend durch die Migrations- beauftragte in enger Zusammenarbeit mit dem Migrationsbeirat\, dem Sozialamt\, dem Verein AGIUA e. V. Migrationssozial- und Jugendarbeit\, dem Frauenzentrum Lila Villa im Verein akCente e. V. sowie mit Unterstützung von zahlreichen Chemnitzer Vereinen und Initiativen vorbereitet und durchgeführt. \nLink zum IKW Programm 2026 – folgt noch. \n  \n  \nFür alle Veranstaltungen gilt: Ausgeschlossen von der Veranstaltung sind Personen\, die extremistischen Organisationen angehören\, einer extremistischen Szene zuzuordnen sind oder bereits in der Vergangenheit durch rassistische\, nationalistische\, antisemitische oder sonstige menschenverachtende Äußerungen in Erscheinung getreten sind. Die Veranstaltenden behalten sich vor\, von ihrem Hausrecht Gebrauch zu machen und diesen Personen den Zutritt zur Veranstaltung zu verwehren oder von dieser zu verweisen.
URL:https://www.ungarn-in-sachsen.de/veranstaltung/eroeffnung-ikw-12-september-2026/
LOCATION:Markt Chemnitz\, Markt\, Chemnitz\, 09111\, Deutschland
CATEGORIES:Präsentation
END:VEVENT
END:VCALENDAR